BEGIN:VCALENDAR
VERSION:2.0
PRODID:-//ChamberMaster//Event Calendar 2.0//EN
METHOD:PUBLISH
X-PUBLISHED-TTL:P1H
REFRESH-INTERVAL:P1H
CALSCALE:GREGORIAN
BEGIN:VTIMEZONE
TZID:America/Los_Angeles
BEGIN:DAYLIGHT
RRULE:FREQ=YEARLY;BYMONTH=3;BYDAY=2SU
DTSTART:20070101T000000
TZOFFSETFROM:-0800
TZOFFSETTO:-0700
TZNAME:Pacific Daylight Time
END:DAYLIGHT
BEGIN:STANDARD
RRULE:FREQ=YEARLY;BYMONTH=11;BYDAY=1SU
DTSTART:20070101T000000
TZOFFSETFROM:-0700
TZOFFSETTO:-0800
TZNAME:Pacific Standard Time
END:STANDARD
END:VTIMEZONE
BEGIN:VEVENT
DTSTART;TZID=America/Los_Angeles:20260507T000000
DTEND;TZID=America/Los_Angeles:20260507T000000
X-MICROSOFT-CDO-ALLDAYEVENT:FALSE
SUMMARY:2026 Tahoe Economic Summit
DESCRIPTION:The 2026 Tahoe Economic Summit\, hosted by the Tahoe Prosperity Center\, is an opportunity to learn\, contribute\, and catalyze change to support our community\, quality of life\, regional economy\, and environment. This year's conference focuses on accelerating Tahoe's innovation ecosystem and features local economic experts\, Tahoe-based entrepreneurs\, and leading policy and change-makers. We will discuss creative ideas\, insight\, and inspiration to leave you empowered for success. Keynote Speakers will present a macroeconomic picture of the primary drivers affecting our region and how you can be prepared for future changes. Breakout group speakers will focus on industry expertise to from business innovation and expansion\, to housing and transportation success stories. Be a part of the thriving community that drives Tahoe's economic resilience and celebrate our regional partnerships that make Tahoe unique and special.
X-ALT-DESC;FMTTYPE=text/html:<!DOCTYPE html><html><head><title></title></head><body aria-disabled="false" spellcheck="false"><p><meta charset="utf-8"></p><p style="box-sizing: border-box\; margin-block: 0px 0.9rem\; color: rgb(84\, 89\, 95)\; font-family: Montserrat\, sans-serif\; font-size: 22px\; font-style: normal\; font-variant-ligatures: normal\; font-variant-caps: normal\; font-weight: 400\; letter-spacing: normal\; orphans: 2\; text-align: start\; text-indent: 0px\; text-transform: none\; widows: 2\; word-spacing: 0px\; -webkit-text-stroke-width: 0px\; white-space: normal\; background-color: rgb(255\, 255\, 255)\; text-decoration-thickness: initial\; text-decoration-style: initial\; text-decoration-color: initial\;">The 2026 Tahoe Economic Summit\, hosted by the&nbsp\;<a fr-original-style="box-sizing: border-box\; text-decoration: none\; background-color: transparent\; color: rgb(104\, 147\, 159)\; box-shadow: none\; font-weight: 600\;" href="https://tahoeprosperity.org/" style="box-sizing: border-box\; text-decoration: none\; background-color: transparent\; color: rgb(104\, 147\, 159)\; box-shadow: none\; font-weight: 600\; user-select: auto\;">Tahoe Prosperity Center</a>\, is an opportunity to learn\, contribute\, and catalyze change to support our community\, quality of life\, regional economy\, and environment.&nbsp\;</p><p style="box-sizing: border-box\; margin-block: 0px 0.9rem\; color: rgb(84\, 89\, 95)\; font-family: Montserrat\, sans-serif\; font-size: 22px\; font-style: normal\; font-variant-ligatures: normal\; font-variant-caps: normal\; font-weight: 400\; letter-spacing: normal\; orphans: 2\; text-align: start\; text-indent: 0px\; text-transform: none\; widows: 2\; word-spacing: 0px\; -webkit-text-stroke-width: 0px\; white-space: normal\; background-color: rgb(255\, 255\, 255)\; text-decoration-thickness: initial\; text-decoration-style: initial\; text-decoration-color: initial\;">This year&rsquo\;s conference focuses on accelerating Tahoe&rsquo\;s innovation ecosystem and features local economic experts\, Tahoe-based entrepreneurs\, and leading policy and change-makers. We will discuss creative ideas\, insight\, and inspiration to leave you empowered for success.&nbsp\;</p><p style="box-sizing: border-box\; margin-block: 0px 0.9rem\; color: rgb(84\, 89\, 95)\; font-family: Montserrat\, sans-serif\; font-size: 22px\; font-style: normal\; font-variant-ligatures: normal\; font-variant-caps: normal\; font-weight: 400\; letter-spacing: normal\; orphans: 2\; text-align: start\; text-indent: 0px\; text-transform: none\; widows: 2\; word-spacing: 0px\; -webkit-text-stroke-width: 0px\; white-space: normal\; background-color: rgb(255\, 255\, 255)\; text-decoration-thickness: initial\; text-decoration-style: initial\; text-decoration-color: initial\;">Keynote Speakers will present a macroeconomic picture of the primary drivers affecting our region and how you can be prepared for future changes. Breakout group speakers will focus on industry expertise to from business innovation and expansion\, to housing and transportation success stories.&nbsp\;</p><p style="box-sizing: border-box\; margin-block: 0px 0.9rem\; color: rgb(84\, 89\, 95)\; font-family: Montserrat\, sans-serif\; font-size: 22px\; font-style: normal\; font-variant-ligatures: normal\; font-variant-caps: normal\; font-weight: 400\; letter-spacing: normal\; orphans: 2\; text-align: start\; text-indent: 0px\; text-transform: none\; widows: 2\; word-spacing: 0px\; -webkit-text-stroke-width: 0px\; white-space: normal\; background-color: rgb(255\, 255\, 255)\; text-decoration-thickness: initial\; text-decoration-style: initial\; text-decoration-color: initial\;">Be a part of the thriving community that drives Tahoe&rsquo\;s economic resilience and celebrate our regional partnerships that make Tahoe unique and special.&nbsp\;</p></body></html>
LOCATION:
UID:e.3015.1416811
SEQUENCE:3
DTSTAMP:20260421T185906Z
URL:https://inclinevillagecrystalbaycommunitybusinessassociationivcba.growthzoneapp.com/event-calendar/Details/2026-tahoe-economic-summit-1674697?sourceTypeId=Hub
END:VEVENT
END:VCALENDAR
