BEGIN:VCALENDAR
VERSION:2.0
PRODID:-//ChamberMaster//Event Calendar 2.0//EN
METHOD:PUBLISH
X-PUBLISHED-TTL:P1H
REFRESH-INTERVAL:P1H
CALSCALE:GREGORIAN
BEGIN:VTIMEZONE
TZID:America/Los_Angeles
BEGIN:DAYLIGHT
RRULE:FREQ=YEARLY;BYMONTH=3;BYDAY=2SU
DTSTART:20070101T000000
TZOFFSETFROM:-0800
TZOFFSETTO:-0700
TZNAME:Pacific Daylight Time
END:DAYLIGHT
BEGIN:STANDARD
RRULE:FREQ=YEARLY;BYMONTH=11;BYDAY=1SU
DTSTART:20070101T000000
TZOFFSETFROM:-0700
TZOFFSETTO:-0800
TZNAME:Pacific Standard Time
END:STANDARD
END:VTIMEZONE
BEGIN:VEVENT
DTSTART;TZID=America/Los_Angeles:20261123T173000
DTEND;TZID=America/Los_Angeles:20261123T190000
X-MICROSOFT-CDO-ALLDAYEVENT:FALSE
SUMMARY:CAB Meeting - Incline Village/Crystal Bay
DESCRIPTION:Library and ZoomJoin Washoe County and the Incline Village/Crystal Bay Citizens Advisory Board (CAB) members for a meeting on Monday\, February 23\, at 5:30 p.m. at the Incline Village Library\, located at 845 Alder Ave.\, Incline Village\, Nevada or via Zoom.\n\nHear from the Tahoe Regional Planning Agency (TRPA) on the Tahoe Living Environmental Impact Statement\, receive public safety updates\, and get the latest on upcoming community engagement opportunities.\n\nClick the link below to view the full agenda and participation details.Agenda
X-ALT-DESC;FMTTYPE=text/html:<!DOCTYPE html><html><head><title></title></head><body aria-disabled="false" spellcheck="false"><p>Library and Zoom</p><p><meta charset="UTF-8"></p><table border="0" cellpadding="0" cellspacing="0" fr-original-style="border-collapse: collapse\; caret-color: rgb(0\, 0\, 0)\; color: rgb(0\, 0\, 0)\; font-family: Helvetica\; font-size: 14px\; font-style: normal\; font-variant-caps: normal\; font-weight: 400\; letter-spacing: normal\; orphans: auto\; text-align: start\; text-transform: none\; white-space: normal\; widows: auto\; word-spacing: 0px\; -webkit-text-stroke-width: 0px\; text-decoration: none\; min-width: 100%\;" style="border-collapse: collapse\; caret-color: rgb(0\, 0\, 0)\; color: rgb(0\, 0\, 0)\; font-family: Helvetica\; font-size: 14px\; font-style: normal\; font-variant-caps: normal\; font-weight: 400\; letter-spacing: normal\; text-align: start\; text-transform: none\; white-space: normal\; word-spacing: 0px\; -webkit-text-stroke-width: 0px\; text-decoration: none\; min-width: 100%\; border: 0px\; empty-cells: show\; max-width: 100%\;" width="100%"><tbody><tr fr-original-style="" style="user-select: none\;"><td fr-original-style="padding-top: 9px\;" style="padding-top: 9px\; min-width: 5px\; border: 1px solid rgb(221\, 221\, 221)\; user-select: text\;" valign="top"><table align="left" border="0" cellpadding="0" cellspacing="0" fr-original-style="border-collapse: collapse\; float: left\; max-width: 100%\; min-width: 100%\;" style="border-collapse: collapse\; float: left\; max-width: 100%\; min-width: 100%\; border: 0px\; empty-cells: show\;" width="100%"><tbody><tr fr-original-style="" style="user-select: none\;"><td fr-original-style="word-break: break-word\; color: rgb(117\, 117\, 117)\; font-family: Helvetica\; font-size: 16px\; line-height: 24px\; text-align: left\; padding: 0px 18px 9px\;" style="word-break: break-word\; color: rgb(117\, 117\, 117)\; font-family: Helvetica\; font-size: 16px\; line-height: 24px\; text-align: left\; padding: 0px 18px 9px\; min-width: 5px\; border: 1px solid rgb(221\, 221\, 221)\; user-select: text\;" valign="top"><div style="text-align: justify\;">Join Washoe County and the Incline Village/Crystal Bay Citizens Advisory Board (CAB) members for a meeting on Monday\, February 23\, at 5:30 p.m. at the Incline Village Library\, located at 845 Alder Ave.\, Incline Village\, Nevada or via Zoom.<br><br>Hear from the Tahoe Regional Planning Agency (TRPA) on the Tahoe Living Environmental Impact Statement\, receive public safety updates\, and get the latest on&nbsp\;upcoming community engagement opportunities.<br><br>Click the link below to view the full agenda and participation details.</div></td></tr></tbody></table></td></tr></tbody></table><table border="0" cellpadding="0" cellspacing="0" fr-original-style="border-collapse: collapse\; caret-color: rgb(0\, 0\, 0)\; color: rgb(0\, 0\, 0)\; font-family: Helvetica\; font-size: 14px\; font-style: normal\; font-variant-caps: normal\; font-weight: 400\; letter-spacing: normal\; orphans: auto\; text-align: start\; text-transform: none\; white-space: normal\; widows: auto\; word-spacing: 0px\; -webkit-text-stroke-width: 0px\; text-decoration: none\; min-width: 100%\;" style="border-collapse: collapse\; caret-color: rgb(0\, 0\, 0)\; color: rgb(0\, 0\, 0)\; font-family: Helvetica\; font-size: 14px\; font-style: normal\; font-variant-caps: normal\; font-weight: 400\; letter-spacing: normal\; text-align: start\; text-transform: none\; white-space: normal\; word-spacing: 0px\; -webkit-text-stroke-width: 0px\; text-decoration: none\; min-width: 100%\; border: 0px\; empty-cells: show\; max-width: 100%\;" width="100%"><tbody><tr fr-original-style="" style="user-select: none\;"><td align="center" fr-original-style="padding: 0px 18px 18px\;" style="padding: 0px 18px 18px\; min-width: 5px\; border: 1px solid rgb(221\, 221\, 221)\; user-select: text\;" valign="top"><table border="0" cellpadding="0" cellspacing="0" fr-original-style="border-collapse: separate !important\; border-radius: 12px\; background-color: rgb(24\, 63\, 114)\;" style="border-radius: 12px\; background-color: rgb(24\, 63\, 114)\; border-collapse: separate !important\; border: 0px\; empty-cells: show\; max-width: 100%\;"><tbody><tr fr-original-style="" style="user-select: none\;"><td align="center" fr-original-style='font-family: "Open Sans"\, "Helvetica Neue"\, Helvetica\, Arial\, sans-serif\; font-size: 24px\; padding: 10px\;' style='font-family: "Open Sans"\, "Helvetica Neue"\, Helvetica\, Arial\, sans-serif\; font-size: 24px\; padding: 10px\; min-width: 5px\; border: 1px solid rgb(221\, 221\, 221)\; user-select: text\;' valign="middle"><a fr-original-style="display: block\; font-weight: bold\; letter-spacing: normal\; line-height: 24px\; text-align: center\; text-decoration: none\; color: rgb(255\, 255\, 255)\;" href="https://washoecounty.us21.list-manage.com/track/click?u=2337415c3c1cf71a8b0eee1da&id=ac3733ffca&e=0a7dd53ec1" style="display: block\; font-weight: bold\; letter-spacing: normal\; line-height: 24px\; text-align: center\; text-decoration: none\; color: rgb(255\, 255\, 255)\; user-select: auto\;" target="_blank" title="Agenda">Agenda</a></td></tr></tbody></table></td></tr></tbody></table></body></html>
LOCATION:845 Alder Ave Incline Village NV 89451
UID:e.3015.1402613
SEQUENCE:3
DTSTAMP:20260421T191127Z
URL:https://inclinevillagecrystalbaycommunitybusinessassociationivcba.growthzoneapp.com/event-calendar/Details/cab-meeting-incline-village-crystal-bay-1657430?sourceTypeId=Hub
END:VEVENT
END:VCALENDAR
