BEGIN:VCALENDAR
VERSION:2.0
PRODID:-//ChamberMaster//Event Calendar 2.0//EN
METHOD:PUBLISH
X-PUBLISHED-TTL:P1H
REFRESH-INTERVAL:P1H
CALSCALE:GREGORIAN
BEGIN:VTIMEZONE
TZID:America/Los_Angeles
BEGIN:DAYLIGHT
RRULE:FREQ=YEARLY;BYMONTH=3;BYDAY=2SU
DTSTART:20070101T000000
TZOFFSETFROM:-0800
TZOFFSETTO:-0700
TZNAME:Pacific Daylight Time
END:DAYLIGHT
BEGIN:STANDARD
RRULE:FREQ=YEARLY;BYMONTH=11;BYDAY=1SU
DTSTART:20070101T000000
TZOFFSETFROM:-0700
TZOFFSETTO:-0800
TZNAME:Pacific Standard Time
END:STANDARD
END:VTIMEZONE
BEGIN:VEVENT
DTSTART;TZID=America/Los_Angeles:20260424T130000
DTEND;TZID=America/Los_Angeles:20260424T170000
X-MICROSOFT-CDO-ALLDAYEVENT:FALSE
SUMMARY:Earth Day 2026 at UNR at Lake Tahoe
DESCRIPTION:Join us for a family friendly celebration of our planet with food trucks\, activities for all ages\, sustainability education and live music.
X-ALT-DESC;FMTTYPE=text/html:Join us for a family friendly celebration of our planet with food trucks\, activities for all ages\, sustainability education and live music.
LOCATION:999 Tahoe Boulevard Incline Village NV 89451
UID:e.3015.1443022
SEQUENCE:3
DTSTAMP:20260421T190041Z
URL:https://inclinevillagecrystalbaycommunitybusinessassociationivcba.growthzoneapp.com/event-calendar/Details/earth-day-2026-at-unr-at-lake-tahoe-1709130?sourceTypeId=Hub
END:VEVENT
END:VCALENDAR
