BEGIN:VCALENDAR
VERSION:2.0
PRODID:-//ChamberMaster//Event Calendar 2.0//EN
METHOD:PUBLISH
X-PUBLISHED-TTL:P1H
REFRESH-INTERVAL:P1H
CALSCALE:GREGORIAN
BEGIN:VTIMEZONE
TZID:America/Los_Angeles
BEGIN:DAYLIGHT
RRULE:FREQ=YEARLY;BYMONTH=3;BYDAY=2SU
DTSTART:20070101T000000
TZOFFSETFROM:-0800
TZOFFSETTO:-0700
TZNAME:Pacific Daylight Time
END:DAYLIGHT
BEGIN:STANDARD
RRULE:FREQ=YEARLY;BYMONTH=11;BYDAY=1SU
DTSTART:20070101T000000
TZOFFSETFROM:-0700
TZOFFSETTO:-0800
TZNAME:Pacific Standard Time
END:STANDARD
END:VTIMEZONE
BEGIN:VEVENT
DTSTART;TZID=America/Los_Angeles:20260509T120000
DTEND;TZID=America/Los_Angeles:20260509T160000
X-MICROSOFT-CDO-ALLDAYEVENT:FALSE
SUMMARY:For the Ones Who Raised Us (Makers Popup)
DESCRIPTION:A pre Mother's Day gathering in honor of the people who shaped us\, cheered us on\, and somehow always knew where everything was.Join us for an easygoing afternoon of making\, sipping\, and choosing something meaningful. Enjoy a Mother's Day inspired mini spring wreath workshop led by Catalina Lavalle of Believe in Recess. You'll learn how to create a wreath from start to finish using fresh spring flowers that dry beautifully and are perfect for adorning your home. No experience necessary. All materials and wine are included in this 1.5-hour class\, with two workshop times available: 12pm and 2pm.Along the way\, create a custom botanical room spray with Sierra Soapbox Candle Co. You can pay ahead to guarantee your spot to create your own botanical and crystal room spray. Charms (keychain or bag) and select jewelry engraving will be available to personalize during the event.Come with your mom\, someone you love\, or on your own. Make something meaningful\, sip away\, and enjoy the afternoon.
X-ALT-DESC;FMTTYPE=text/html:<!DOCTYPE html><html><head><title></title></head><body aria-disabled="false"><p><meta charset="utf-8"></p><p style="box-sizing: border-box\; overflow-anchor: none\; border: initial\; box-shadow: initial\; margin: 0px 0px 27.36px\; padding: 0px\; color: rgb(0\, 77\, 133)\; font-size: 15.2px\; line-height: 1.6\; font-family: Assistant\, sans-serif\; font-style: normal\; font-variant-ligatures: normal\; font-variant-caps: normal\; font-weight: 400\; letter-spacing: normal\; orphans: 2\; text-align: left\; text-indent: 0px\; text-transform: none\; widows: 2\; word-spacing: 0px\; -webkit-text-stroke-width: 0px\; white-space: normal\; background-color: rgb(255\, 255\, 255)\; text-decoration-thickness: initial\; text-decoration-style: initial\; text-decoration-color: initial\;">A pre&ndash\;Mother&rsquo\;s Day gathering in honor of the people who shaped us\, cheered us on\, and somehow always knew where everything was.</p><p style="box-sizing: border-box\; overflow-anchor: none\; border: initial\; box-shadow: initial\; margin: 12.16px 0px 27.36px\; padding: 0px\; color: rgb(0\, 77\, 133)\; font-size: 15.2px\; line-height: 1.6\; font-family: Assistant\, sans-serif\; font-style: normal\; font-variant-ligatures: normal\; font-variant-caps: normal\; font-weight: 400\; letter-spacing: normal\; orphans: 2\; text-align: left\; text-indent: 0px\; text-transform: none\; widows: 2\; word-spacing: 0px\; -webkit-text-stroke-width: 0px\; white-space: normal\; background-color: rgb(255\, 255\, 255)\; text-decoration-thickness: initial\; text-decoration-style: initial\; text-decoration-color: initial\;">Join us for an easygoing afternoon of making\, sipping\, and choosing something meaningful. Enjoy a <strong fr-original-style="box-sizing: border-box\; overflow-anchor: none\; font-weight: 700\; border: initial\; box-shadow: initial\; color: rgb(0\, 77\, 133)\; font-size: 14.44px\;" style="box-sizing: border-box\; overflow-anchor: none\; font-weight: 700\; border: initial\; box-shadow: initial\; color: rgb(0\, 77\, 133)\; font-size: 14.44px\;">Mother&rsquo\;s Day&ndash\;inspired mini spring wreath workshop</strong> led by Catalina Lavalle of Believe in Recess. You&rsquo\;ll learn how to create a wreath from start to finish using fresh spring flowers that dry beautifully and are perfect for adorning your home. No experience necessary. <strong fr-original-style="box-sizing: border-box\; overflow-anchor: none\; font-weight: 700\; border: initial\; box-shadow: initial\; color: rgb(0\, 77\, 133)\; font-size: 14.44px\;" style="box-sizing: border-box\; overflow-anchor: none\; font-weight: 700\; border: initial\; box-shadow: initial\; color: rgb(0\, 77\, 133)\; font-size: 14.44px\;">All materials and wine are included</strong> in this 1.5-hour class\, with <strong fr-original-style="box-sizing: border-box\; overflow-anchor: none\; font-weight: 700\; border: initial\; box-shadow: initial\; color: rgb(0\, 77\, 133)\; font-size: 14.44px\;" style="box-sizing: border-box\; overflow-anchor: none\; font-weight: 700\; border: initial\; box-shadow: initial\; color: rgb(0\, 77\, 133)\; font-size: 14.44px\;">two workshop times available: 12pm and 2pm</strong>.</p><p style="box-sizing: border-box\; overflow-anchor: none\; border: initial\; box-shadow: initial\; margin: 12.16px 0px 27.36px\; padding: 0px\; color: rgb(0\, 77\, 133)\; font-size: 15.2px\; line-height: 1.6\; font-family: Assistant\, sans-serif\; font-style: normal\; font-variant-ligatures: normal\; font-variant-caps: normal\; font-weight: 400\; letter-spacing: normal\; orphans: 2\; text-align: left\; text-indent: 0px\; text-transform: none\; widows: 2\; word-spacing: 0px\; -webkit-text-stroke-width: 0px\; white-space: normal\; background-color: rgb(255\, 255\, 255)\; text-decoration-thickness: initial\; text-decoration-style: initial\; text-decoration-color: initial\;">Along the way\, create a custom botanical room spray with Sierra Soapbox Candle Co. <strong fr-original-style="box-sizing: border-box\; overflow-anchor: none\; font-weight: 700\; border: initial\; box-shadow: initial\; color: rgb(0\, 77\, 133)\; font-size: 14.44px\;" style="box-sizing: border-box\; overflow-anchor: none\; font-weight: 700\; border: initial\; box-shadow: initial\; color: rgb(0\, 77\, 133)\; font-size: 14.44px\;">You can pay ahead to guarantee your spot to create your own botanical and crystal room spray.</strong> Charms (keychain or bag) and select jewelry engraving will be available to personalize during the event.</p><p style="box-sizing: border-box\; overflow-anchor: none\; border: initial\; box-shadow: initial\; margin: 12.16px 0px 27.36px\; padding: 0px\; color: rgb(0\, 77\, 133)\; font-size: 15.2px\; line-height: 1.6\; font-family: Assistant\, sans-serif\; font-style: normal\; font-variant-ligatures: normal\; font-variant-caps: normal\; font-weight: 400\; letter-spacing: normal\; orphans: 2\; text-align: left\; text-indent: 0px\; text-transform: none\; widows: 2\; word-spacing: 0px\; -webkit-text-stroke-width: 0px\; white-space: normal\; background-color: rgb(255\, 255\, 255)\; text-decoration-thickness: initial\; text-decoration-style: initial\; text-decoration-color: initial\;">Come with your mom\, someone you love\, or on your own. Make something meaningful\, sip away\, and enjoy the afternoon.</p></body></html>
LOCATION:
UID:e.3015.1413406
SEQUENCE:3
DTSTAMP:20260421T185856Z
URL:https://inclinevillagecrystalbaycommunitybusinessassociationivcba.growthzoneapp.com/event-calendar/Details/for-the-ones-who-raised-us-makers-popup-1670295?sourceTypeId=Hub
END:VEVENT
END:VCALENDAR
