BEGIN:VCALENDAR
VERSION:2.0
PRODID:-//ChamberMaster//Event Calendar 2.0//EN
METHOD:PUBLISH
X-PUBLISHED-TTL:P1H
REFRESH-INTERVAL:P1H
CALSCALE:GREGORIAN
BEGIN:VTIMEZONE
TZID:America/Los_Angeles
BEGIN:DAYLIGHT
RRULE:FREQ=YEARLY;BYMONTH=3;BYDAY=2SU
DTSTART:20070101T000000
TZOFFSETFROM:-0800
TZOFFSETTO:-0700
TZNAME:Pacific Daylight Time
END:DAYLIGHT
BEGIN:STANDARD
RRULE:FREQ=YEARLY;BYMONTH=11;BYDAY=1SU
DTSTART:20070101T000000
TZOFFSETFROM:-0700
TZOFFSETTO:-0800
TZNAME:Pacific Standard Time
END:STANDARD
END:VTIMEZONE
BEGIN:VEVENT
DTSTART;TZID=America/Los_Angeles:20260509T110000
DTEND;TZID=America/Los_Angeles:20260509T120000
X-MICROSOFT-CDO-ALLDAYEVENT:FALSE
SUMMARY:Give Your Body Some TLC With OPCs
DESCRIPTION:Join us for this free class taught by Nutritional Health Coach Alina Neacy\, M.Sc. Nutrition.Have you heard about these powerful free-radical scavengers? Think of OPCs as the Optimal Protectors of Cells! Found in colorful fruits and veggies\, grape seed extract and pine bark\, OPCs are super-charged polyphenols with an affinity for the vascular system. Learn how you can support everything from your leg veins to your brain health\, plus give your healthy gut microbes a boost\, in this fun and interactive class.No sign-up is required\, just show up and enjoy snacks\, samples and evidence-based nutrition information to help you live your healthiest life!\n\n\n\n\n\nAlina also offers free personalized nutrition coaching sessions in-person or via phone or Teams. Book an appointment at www.naturalgrocers.com/n
X-ALT-DESC;FMTTYPE=text/html:<!DOCTYPE html><html><head><title></title></head><body aria-disabled="false"><div style='box-sizing: border-box\; padding: 0px\; margin: 0px\; position: relative\; color: rgb(38\, 27\, 54)\; font-family: "Neue Plak"\, -apple-system\, BlinkMacSystemFont\, Roboto\, "Helvetica Neue"\, Helvetica\, Tahoma\, Arial\, sans-serif\; font-size: medium\; font-style: normal\; font-variant-ligatures: normal\; font-variant-caps: normal\; font-weight: 400\; letter-spacing: normal\; orphans: 2\; text-align: start\; text-indent: 0px\; text-transform: none\; widows: 2\; word-spacing: 0px\; -webkit-text-stroke-width: 0px\; white-space: normal\; text-decoration-thickness: initial\; text-decoration-style: initial\; text-decoration-color: initial\;'><div style="box-sizing: border-box\; padding: 0px\; margin: 0px\; color: rgb(88\, 81\, 99)\; overflow: hidden\; text-overflow: ellipsis\; font-style: normal\; font-weight: 400\; line-height: 23.94px\; letter-spacing: 0.1px\; display: -webkit-box\; -webkit-line-clamp: 6\; -webkit-box-orient: vertical\; font-size: 18px\;"><p style="box-sizing: border-box\; padding: 0px 0px 12px\; margin: 0px 0px 8px\;">Join us for this free class taught by Nutritional Health Coach Alina Neacy\, M.Sc. Nutrition.</p><div style="box-sizing: border-box\; padding: 0px\; margin: 0px\;"><p style="box-sizing: border-box\; padding: 0px 0px 12px\; margin: 0px 0px 8px\;">Have you heard about these powerful free-radical scavengers? Think of OPCs as the Optimal Protectors of Cells! Found in colorful fruits and veggies\, grape seed extract and pine bark\, OPCs are super-charged polyphenols with an affinity for the vascular system. Learn how you can support everything from your leg veins to your brain health\, plus give your healthy gut microbes a boost\, in this fun and interactive class.</p><p style="box-sizing: border-box\; padding: 0px 0px 12px\; margin: 0px 0px 8px\;">No sign-up is required\, just show up and enjoy snacks\, samples and evidence-based nutrition information to help you live your healthiest life!</p><p style="box-sizing: border-box\; padding: 0px 0px 12px\; margin: 0px 0px 8px\;"><br></p><p style="box-sizing: border-box\; padding: 0px 0px 12px\; margin: 0px 0px 8px\;"><br></p><p style="box-sizing: border-box\; padding: 0px 0px 12px\; margin: 0px 0px 8px\;"><br></p><p style="box-sizing: border-box\; padding: 0px 0px 12px\; margin: 0px 0px 8px\;"><br></p><p style="box-sizing: border-box\; padding: 0px 0px 12px\; margin: 0px 0px 8px\;"><br></p><p style="box-sizing: border-box\; padding: 0px 0px 12px\; margin: 0px 0px 8px\;"><br></p><p style="box-sizing: border-box\; padding: 0px 0px 12px\; margin: 0px 0px 8px\;">Alina also offers free personalized nutrition coaching sessions in-person or via phone or Teams. Book an appointment at <a data-msys-clicktrack="0" fr-original-style="box-sizing: border-box\; padding: 0px\; margin: 0px\; color: rgb(54\, 89\, 227)\; text-decoration: underline\;" href="https://www.naturalgrocers.com/nhc/alina-neacy" rel="nofollow noopener noreferrer" style="box-sizing: border-box\; padding: 0px\; margin: 0px\; color: rgb(54\, 89\, 227)\; text-decoration: underline\; user-select: auto\;" target="_blank" title="https://www.naturalgrocers.com/nhc/alina-neacy">www.naturalgrocers.com/n</a></p></div></div></div></body></html>
LOCATION:
UID:e.3015.1442059
SEQUENCE:3
DTSTAMP:20260421T185927Z
URL:https://inclinevillagecrystalbaycommunitybusinessassociationivcba.growthzoneapp.com/event-calendar/Details/give-your-body-some-tlc-with-opcs-1707891?sourceTypeId=Hub
END:VEVENT
END:VCALENDAR
