BEGIN:VCALENDAR
VERSION:2.0
PRODID:-//ChamberMaster//Event Calendar 2.0//EN
METHOD:PUBLISH
X-PUBLISHED-TTL:P1H
REFRESH-INTERVAL:P1H
CALSCALE:GREGORIAN
BEGIN:VTIMEZONE
TZID:America/Los_Angeles
BEGIN:DAYLIGHT
RRULE:FREQ=YEARLY;BYMONTH=3;BYDAY=2SU
DTSTART:20070101T000000
TZOFFSETFROM:-0800
TZOFFSETTO:-0700
TZNAME:Pacific Daylight Time
END:DAYLIGHT
BEGIN:STANDARD
RRULE:FREQ=YEARLY;BYMONTH=11;BYDAY=1SU
DTSTART:20070101T000000
TZOFFSETFROM:-0700
TZOFFSETTO:-0800
TZNAME:Pacific Standard Time
END:STANDARD
END:VTIMEZONE
BEGIN:VEVENT
DTSTART;TZID=America/Los_Angeles:20260704T080000
DTEND;TZID=America/Los_Angeles:20260704T120000
X-MICROSOFT-CDO-ALLDAYEVENT:FALSE
SUMMARY:IVCB Veterans Club Pancake Breakfast
DESCRIPTION:Kick off July 4th by supporting local veterans at this fun community pancake breakfast! Enjoy Pancakes\, bacon\, sausage\, and blueberries\, plus optional Mimosas and Bloody Marys to support local Veterans! Tickets can be purchased in advance at the Rec Center or at the event.
X-ALT-DESC;FMTTYPE=text/html:<!DOCTYPE html><html><head><title></title></head><body aria-disabled="false"><p>Kick off July 4th by supporting local veterans at this fun community pancake breakfast! Enjoy Pancakes\, bacon\, sausage\, and blueberries\, plus optional Mimosas and Bloody Marys to support local Veterans!&nbsp\;</p><p><span style="caret-color: rgb(34\, 34\, 34)\; color: rgb(34\, 34\, 34)\; font-family: Arial\, Helvetica\, sans-serif\; font-size: 14.666667px\; background-color: rgb(255\, 255\, 255)\;">Tickets can be purchased in advance at the Rec Center or at the event.</span></p></body></html>
LOCATION:960 Lakeshore Blvd. Incline Village NV 89451
UID:e.3015.1194463
SEQUENCE:3
DTSTAMP:20260421T185903Z
URL:https://inclinevillagecrystalbaycommunitybusinessassociationivcba.growthzoneapp.com/event-calendar/Details/ivcb-veterans-club-pancake-breakfast-1393340?sourceTypeId=Hub
END:VEVENT
END:VCALENDAR
