BEGIN:VCALENDAR
VERSION:2.0
PRODID:-//ChamberMaster//Event Calendar 2.0//EN
METHOD:PUBLISH
X-PUBLISHED-TTL:P1H
REFRESH-INTERVAL:P1H
CALSCALE:GREGORIAN
BEGIN:VTIMEZONE
TZID:America/Los_Angeles
BEGIN:DAYLIGHT
RRULE:FREQ=YEARLY;BYMONTH=3;BYDAY=2SU
DTSTART:20070101T000000
TZOFFSETFROM:-0800
TZOFFSETTO:-0700
TZNAME:Pacific Daylight Time
END:DAYLIGHT
BEGIN:STANDARD
RRULE:FREQ=YEARLY;BYMONTH=11;BYDAY=1SU
DTSTART:20070101T000000
TZOFFSETFROM:-0700
TZOFFSETTO:-0800
TZNAME:Pacific Standard Time
END:STANDARD
END:VTIMEZONE
BEGIN:VEVENT
DTSTART;TZID=America/Los_Angeles:20260703T180000
DTEND;TZID=America/Los_Angeles:20260703T220000
X-MICROSOFT-CDO-ALLDAYEVENT:FALSE
SUMMARY:IVCB Veterans Recognition Reception & Flag Retirement Ceremony
DESCRIPTION:Celebrate our local veterans at a recognition reception prior to honoring our US Flag with a formal retirement ceremony at dusk\, complete with bagpipers\, hosted by the IVCB Veterans Club.
X-ALT-DESC;FMTTYPE=text/html:Celebrate our local veterans at a recognition reception prior to honoring our US Flag with a formal retirement ceremony at dusk\, complete with bagpipers\, hosted by the IVCB Veterans Club.
LOCATION:Incline Village
UID:e.3015.1194460
SEQUENCE:3
DTSTAMP:20260421T185858Z
URL:https://inclinevillagecrystalbaycommunitybusinessassociationivcba.growthzoneapp.com/event-calendar/Details/ivcb-veterans-recognition-reception-flag-retirement-ceremony-1393337?sourceTypeId=Hub
END:VEVENT
END:VCALENDAR
