BEGIN:VCALENDAR
VERSION:2.0
PRODID:-//ChamberMaster//Event Calendar 2.0//EN
METHOD:PUBLISH
X-PUBLISHED-TTL:P1H
REFRESH-INTERVAL:P1H
CALSCALE:GREGORIAN
BEGIN:VTIMEZONE
TZID:America/Los_Angeles
BEGIN:DAYLIGHT
RRULE:FREQ=YEARLY;BYMONTH=3;BYDAY=2SU
DTSTART:20070101T000000
TZOFFSETFROM:-0800
TZOFFSETTO:-0700
TZNAME:Pacific Daylight Time
END:DAYLIGHT
BEGIN:STANDARD
RRULE:FREQ=YEARLY;BYMONTH=11;BYDAY=1SU
DTSTART:20070101T000000
TZOFFSETFROM:-0700
TZOFFSETTO:-0800
TZNAME:Pacific Standard Time
END:STANDARD
END:VTIMEZONE
BEGIN:VEVENT
DTSTART;TZID=America/Los_Angeles:20260402T180000
DTEND;TZID=America/Los_Angeles:20260402T200000
X-MICROSOFT-CDO-ALLDAYEVENT:FALSE
SUMMARY:Jazz on the Sierras
DESCRIPTION:Come spend the evening with live jazz\, appetizers\, and cocktails while supporting Sierra Community House. Enjoy great music\, good food\, and a relaxed night with the lahoe community for a meaningful cause. \nCOCKTAIL ATTIRE   AGES 21+   TICKETS $40 GO TO WEBSITE TO PURCHASE TICKETS! https://tinyurl.com/JazzOmTheSierrasTickets
X-ALT-DESC;FMTTYPE=text/html:<!DOCTYPE html><html><head><title></title></head><body aria-disabled="false" spellcheck="false"><p>Come spend the evening with live jazz\, appetizers\, and cocktails while supporting Sierra Community House. Enjoy great music\, good food\, and a relaxed night with the lahoe community for a meaningful cause.&nbsp\;</p><p><br></p><p>COCKTAIL ATTIRE &bull\; AGES 21+ &bull\; TICKETS $40 GO TO WEBSITE TO PURCHASE TICKETS! https://tinyurl.com/JazzOmTheSierrasTickets</p></body></html>
LOCATION:8318 N Lake Blvd Kings Beach CA
UID:e.3015.1416812
SEQUENCE:3
DTSTAMP:20260421T185857Z
URL:https://inclinevillagecrystalbaycommunitybusinessassociationivcba.growthzoneapp.com/event-calendar/Details/jazz-on-the-sierras-1674698?sourceTypeId=Hub
END:VEVENT
END:VCALENDAR
