BEGIN:VCALENDAR
VERSION:2.0
PRODID:-//ChamberMaster//Event Calendar 2.0//EN
METHOD:PUBLISH
X-PUBLISHED-TTL:P1H
REFRESH-INTERVAL:P1H
CALSCALE:GREGORIAN
BEGIN:VTIMEZONE
TZID:America/Los_Angeles
BEGIN:DAYLIGHT
RRULE:FREQ=YEARLY;BYMONTH=3;BYDAY=2SU
DTSTART:20070101T000000
TZOFFSETFROM:-0800
TZOFFSETTO:-0700
TZNAME:Pacific Daylight Time
END:DAYLIGHT
BEGIN:STANDARD
RRULE:FREQ=YEARLY;BYMONTH=11;BYDAY=1SU
DTSTART:20070101T000000
TZOFFSETFROM:-0700
TZOFFSETTO:-0800
TZNAME:Pacific Standard Time
END:STANDARD
END:VTIMEZONE
BEGIN:VEVENT
DTSTART;TZID=America/Los_Angeles:20260514T210000
DTEND;TZID=America/Los_Angeles:20260514T230000
X-MICROSOFT-CDO-ALLDAYEVENT:FALSE
SUMMARY:Karaoke Thursdays
DESCRIPTION:KARAOKE THURSDAYS ARE HERE!  Alibi Ale Works - Incline Village\n\nWe’re the thirstiest on Thursdays\, not just for some boozy beverages\, but for some killer karaoke too! Choose your song or step up for blind karaoke roulette! \n\nBest karaoke of the night will win an Alibi gift card! Sing your heart out for free beer and Alibi bites
X-ALT-DESC;FMTTYPE=text/html:KARAOKE THURSDAYS ARE HERE!  Alibi Ale Works - Incline Village\n\nWe’re the thirstiest on Thursdays\, not just for some boozy beverages\, but for some killer karaoke too! Choose your song or step up for blind karaoke roulette! \n\nBest karaoke of the night will win an Alibi gift card! Sing your heart out for free beer and Alibi bites
LOCATION:931 Tahoe Blvd Incline Village NV 89451
UID:e.3015.1407934
SEQUENCE:3
DTSTAMP:20260421T185752Z
URL:https://inclinevillagecrystalbaycommunitybusinessassociationivcba.growthzoneapp.com/event-calendar/Details/karaoke-thursdays-1663975?sourceTypeId=Hub
END:VEVENT
END:VCALENDAR
