BEGIN:VCALENDAR
VERSION:2.0
PRODID:-//ChamberMaster//Event Calendar 2.0//EN
METHOD:PUBLISH
X-PUBLISHED-TTL:P1H
REFRESH-INTERVAL:P1H
CALSCALE:GREGORIAN
BEGIN:VTIMEZONE
TZID:America/Los_Angeles
BEGIN:DAYLIGHT
RRULE:FREQ=YEARLY;BYMONTH=3;BYDAY=2SU
DTSTART:20070101T000000
TZOFFSETFROM:-0800
TZOFFSETTO:-0700
TZNAME:Pacific Daylight Time
END:DAYLIGHT
BEGIN:STANDARD
RRULE:FREQ=YEARLY;BYMONTH=11;BYDAY=1SU
DTSTART:20070101T000000
TZOFFSETFROM:-0700
TZOFFSETTO:-0800
TZNAME:Pacific Standard Time
END:STANDARD
END:VTIMEZONE
BEGIN:VEVENT
DTSTART;TZID=America/Los_Angeles:20260703T100000
DTEND;TZID=America/Los_Angeles:20260703T110000
X-MICROSOFT-CDO-ALLDAYEVENT:FALSE
SUMMARY:Local Heroes Parade Registration (2026)
DESCRIPTION:2026 Local Heroes Parade Registration: Vehicles & Walking GroupsTHE PARADE IS FRIDAY\, JULY 3\, 2026 10:00AM PARADE - VEHICLES & WALKING GROUPS Types of entries include floats\, classic cars\, walking groups\, street performers\, musical groups\, county\, fire department\, and sheriff's office vehicles . all are welcome. Please register with a single point of contact if you plan to enter a vehicle/float/walking group in the 2026 Local Heroes Parade.2026 Parade Registration FeesThis year\, for the first time\, we will be implementing a modest registration fee for parade participants. As our event has grown\, so have the costs associated with producing a first-class parade experience - including enhanced logistics\, upgraded production elements\, and expanded community programming. These fees help ensure we can continue to deliver the high-quality event our community deserves.We deeply value the support of our IVCBA members\, and that is reflected in our fee structure. Fees are tiered and discounted based on your membership level - the higher your membership tier\, the greater your savings. When you log in as a registered IVCBA member to complete your parade registration\, your applicable fees will be automatically calculated based on your membership status. No manual calculations needed.Thank you for your continued participation and support. We look forward to another incredible parade!Registration Fees by Membership LevelParticipant TypeRegistration FeeNon-Member Parade Participant$75.00Basic / Non-Profit Member Parade Participant$60.00Trade Member Parade Registration$60.00Local Member Parade Registration$37.50Corporate Level Parade Participant$0.00Investor Level Member$0.00\n\n\nQuestions: Julie@ivcba.org
X-ALT-DESC;FMTTYPE=text/html:<!DOCTYPE html><html><head><title></title></head><body aria-disabled="false"><p style="text-align: center\;"><span style="font-size: 18px\;"><strong fr-original-style="" style="font-weight: 700\;">2026 Local Heroes Parade Registration: Vehicles &amp\; Walking Groups</strong></span></p><p style="text-align: center\;"><span style="font-size: 18px\;"><span style="color: rgb(184\, 49\, 47)\;"><strong fr-original-style="" style="font-weight: 700\;">THE PARADE IS FRIDAY\, JULY 3\, 2026 10:00AM&nbsp\;</strong></span></span></p><h1 style="text-align: center\;"><span style="font-size: 18px\;"><span style="font-family: Verdana\,Geneva\,sans-serif\;"><strong fr-original-style="" style="font-weight: 700\;"><span style="color: rgb(44\, 130\, 201)\;">PARADE - VEHICLES &amp\; WALKING GROUPS&nbsp\;</span></strong></span></span></h1><hr fr-original-style="" style="clear: both\; -webkit-user-select: none\; break-after: page\;"><p style="text-align: left\;"><span style="font-size: 18px\;"><span style="font-family: Verdana\, Geneva\, sans-serif\;"><strong fr-original-style="" style="font-weight: 700\;">Types of entries include floats\, classic cars\, walking groups\, street performers\, musical groups\, county\, fire department\, and sheriff&rsquo\;s office vehicles&hellip\;. all are welcome.&nbsp\;</strong></span></span></p><p><span style="font-size: 18px\;"><strong fr-original-style="" style="font-weight: 700\;"><span style="font-family: Verdana\,Geneva\,sans-serif\;"><span style="font-family: Verdana\, Geneva\, sans-serif\;">Please register with a single point of contact&nbsp\;</span></span></strong><span style="font-family: Verdana\,Geneva\,sans-serif\;"><span style="font-family: Verdana\, Geneva\, sans-serif\;"><strong fr-original-style="" style="font-weight: 700\;">if you plan to enter a vehicle/float/walking group in the 2026 Local Heroes Parade.</strong></span></span></span></p><h1 style="margin: 10pt 0in\; font-size: 18pt\; font-family: Arial\, sans-serif\; color: rgb(27\, 58\, 107)\;"><span style="font-size: 18px\;">2026 Parade Registration Fees</span></h1><p style="margin: 0in 0in 8pt\; font-size: 11pt\; font-family: Arial\, sans-serif\;"><span style="font-size: 18px\;">This year\, for the first time\, we will be implementing a modest registration fee for parade participants. As our event has grown\, so have the costs associated with producing a first-class parade experience - including enhanced logistics\, upgraded production elements\, and expanded community programming. These fees help ensure we can continue to deliver the high-quality event our community deserves.</span></p><p style="margin: 0in 0in 8pt\; font-size: 11pt\; font-family: Arial\, sans-serif\;"><span style="font-size: 18px\;">We deeply value the support of our IVCBA members\, and that is reflected in our fee structure. <strong fr-original-style="" style="font-weight: 700\;">Fees are tiered and discounted based on your membership level</strong> - the higher your membership tier\, the greater your savings. When you log in as a registered IVCBA member to complete your parade registration\, your applicable fees will be <strong fr-original-style="" style="font-weight: 700\;">automatically calculated</strong> based on your membership status. No manual calculations needed.</span></p><p style="margin: 0in 0in 12pt\; font-size: 11pt\; font-family: Arial\, sans-serif\;"><span style="font-size: 18px\;">Thank you for your continued participation and support. We look forward to another incredible parade!</span></p><h2 style="margin: 14pt 0in 6pt\; font-size: 13pt\; font-family: Arial\, sans-serif\; color: rgb(27\, 58\, 107)\;">Registration Fees by Membership Level</h2><table border="1" cellpadding="0" cellspacing="0" fr-original-style="width: 6.5in\; border-collapse: collapse\; border: medium\;" style="width: 6.5in\; border-collapse: collapse\; border: medium\; empty-cells: show\; max-width: 100%\;" width="624"><thead><tr fr-original-style="" style="-webkit-user-select: none\;"><td fr-original-style="width: 318pt\; border: 1pt solid rgb(187\, 187\, 187)\; background: rgb(27\, 58\, 107)\; padding: 6pt 8pt\;" style="width: 318pt\; border: 1pt solid rgb(187\, 187\, 187)\; background: rgb(27\, 58\, 107)\; padding: 6pt 8pt\; min-width: 5px\; -webkit-user-select: none\;" width="424"><p style="margin: 0in\; font-size: 11pt\; font-family: Arial\, sans-serif\;"><strong fr-original-style="" style="font-weight: 700\;"><span style="color: rgb(255\, 255\, 255)\;">Participant Type</span></strong></p></td><td fr-original-style="width: 150pt\; border-width: 1pt 1pt 1pt medium\; border-style: solid solid solid none\; border-color: rgb(187\, 187\, 187) rgb(187\, 187\, 187) rgb(187\, 187\, 187) currentcolor\; border-image: none\; background: rgb(27\, 58\, 107)\; padding: 6pt 8pt\;" style="width: 150pt\; border-width: 1pt 1pt 1pt medium\; border-style: solid solid solid none\; border-color: rgb(187\, 187\, 187) rgb(187\, 187\, 187) rgb(187\, 187\, 187) currentcolor\; border-image: none\; background: rgb(27\, 58\, 107)\; padding: 6pt 8pt\; min-width: 5px\; -webkit-user-select: none\;" width="200"><p style="margin: 0in\; font-size: 11pt\; font-family: Arial\, sans-serif\;"><strong fr-original-style="" style="font-weight: 700\;"><span style="color: rgb(255\, 255\, 255)\;">Registration Fee</span></strong></p></td></tr></thead><tbody><tr fr-original-style="" style="-webkit-user-select: none\;"><td fr-original-style="width: 318pt\; border-width: medium 1pt 1pt\; border-style: none solid solid\; border-color: currentcolor rgb(187\, 187\, 187) rgb(187\, 187\, 187)\; border-image: none\; background: white\; padding: 5pt 8pt\;" style="width: 318pt\; border-width: medium 1pt 1pt\; border-style: none solid solid\; border-color: currentcolor rgb(187\, 187\, 187) rgb(187\, 187\, 187)\; border-image: none\; background: white\; padding: 5pt 8pt\; min-width: 5px\; -webkit-user-select: none\;" width="424"><p style="margin: 0in\; font-size: 11pt\; font-family: Arial\, sans-serif\;">Non-Member Parade Participant</p></td><td fr-original-style="width: 150pt\; border-width: medium 1pt 1pt medium\; border-style: none solid solid none\; border-color: currentcolor rgb(187\, 187\, 187) rgb(187\, 187\, 187) currentcolor\; background: white\; padding: 5pt 8pt\;" style="width: 150pt\; border-width: medium 1pt 1pt medium\; border-style: none solid solid none\; border-color: currentcolor rgb(187\, 187\, 187) rgb(187\, 187\, 187) currentcolor\; background: white\; padding: 5pt 8pt\; min-width: 5px\; -webkit-user-select: none\;" width="200"><p align="right" style="margin: 0in\; font-size: 11pt\; font-family: Arial\, sans-serif\; text-align: right\;"><strong fr-original-style="" style="font-weight: 700\;">$75.00</strong></p></td></tr><tr fr-original-style="" style="-webkit-user-select: none\;"><td fr-original-style="width: 318pt\; border-width: medium 1pt 1pt\; border-style: none solid solid\; border-color: currentcolor rgb(187\, 187\, 187) rgb(187\, 187\, 187)\; border-image: none\; background: rgb(232\, 237\, 245)\; padding: 5pt 8pt\;" style="width: 318pt\; border-width: medium 1pt 1pt\; border-style: none solid solid\; border-color: currentcolor rgb(187\, 187\, 187) rgb(187\, 187\, 187)\; border-image: none\; background: rgb(232\, 237\, 245)\; padding: 5pt 8pt\; min-width: 5px\; -webkit-user-select: none\;" width="424"><p style="margin: 0in\; font-size: 11pt\; font-family: Arial\, sans-serif\;">Basic / Non-Profit Member Parade Participant</p></td><td fr-original-style="width: 150pt\; border-width: medium 1pt 1pt medium\; border-style: none solid solid none\; border-color: currentcolor rgb(187\, 187\, 187) rgb(187\, 187\, 187) currentcolor\; background: rgb(232\, 237\, 245)\; padding: 5pt 8pt\;" style="width: 150pt\; border-width: medium 1pt 1pt medium\; border-style: none solid solid none\; border-color: currentcolor rgb(187\, 187\, 187) rgb(187\, 187\, 187) currentcolor\; background: rgb(232\, 237\, 245)\; padding: 5pt 8pt\; min-width: 5px\; -webkit-user-select: none\;" width="200"><p align="right" style="margin: 0in\; font-size: 11pt\; font-family: Arial\, sans-serif\; text-align: right\;"><strong fr-original-style="" style="font-weight: 700\;">$60.00</strong></p></td></tr><tr fr-original-style="" style="-webkit-user-select: none\;"><td fr-original-style="width: 318pt\; border-width: medium 1pt 1pt\; border-style: none solid solid\; border-color: currentcolor rgb(187\, 187\, 187) rgb(187\, 187\, 187)\; border-image: none\; background: white\; padding: 5pt 8pt\;" style="width: 318pt\; border-width: medium 1pt 1pt\; border-style: none solid solid\; border-color: currentcolor rgb(187\, 187\, 187) rgb(187\, 187\, 187)\; border-image: none\; background: white\; padding: 5pt 8pt\; min-width: 5px\; -webkit-user-select: none\;" width="424"><p style="margin: 0in\; font-size: 11pt\; font-family: Arial\, sans-serif\;">Trade Member Parade Registration</p></td><td fr-original-style="width: 150pt\; border-width: medium 1pt 1pt medium\; border-style: none solid solid none\; border-color: currentcolor rgb(187\, 187\, 187) rgb(187\, 187\, 187) currentcolor\; background: white\; padding: 5pt 8pt\;" style="width: 150pt\; border-width: medium 1pt 1pt medium\; border-style: none solid solid none\; border-color: currentcolor rgb(187\, 187\, 187) rgb(187\, 187\, 187) currentcolor\; background: white\; padding: 5pt 8pt\; min-width: 5px\; -webkit-user-select: none\;" width="200"><p align="right" style="margin: 0in\; font-size: 11pt\; font-family: Arial\, sans-serif\; text-align: right\;"><strong fr-original-style="" style="font-weight: 700\;">$60.00</strong></p></td></tr><tr fr-original-style="" style="-webkit-user-select: none\;"><td fr-original-style="width: 318pt\; border-width: medium 1pt 1pt\; border-style: none solid solid\; border-color: currentcolor rgb(187\, 187\, 187) rgb(187\, 187\, 187)\; border-image: none\; background: rgb(232\, 237\, 245)\; padding: 5pt 8pt\;" style="width: 318pt\; border-width: medium 1pt 1pt\; border-style: none solid solid\; border-color: currentcolor rgb(187\, 187\, 187) rgb(187\, 187\, 187)\; border-image: none\; background: rgb(232\, 237\, 245)\; padding: 5pt 8pt\; min-width: 5px\; -webkit-user-select: none\;" width="424"><p style="margin: 0in\; font-size: 11pt\; font-family: Arial\, sans-serif\;">Local Member Parade Registration</p></td><td fr-original-style="width: 150pt\; border-width: medium 1pt 1pt medium\; border-style: none solid solid none\; border-color: currentcolor rgb(187\, 187\, 187) rgb(187\, 187\, 187) currentcolor\; background: rgb(232\, 237\, 245)\; padding: 5pt 8pt\;" style="width: 150pt\; border-width: medium 1pt 1pt medium\; border-style: none solid solid none\; border-color: currentcolor rgb(187\, 187\, 187) rgb(187\, 187\, 187) currentcolor\; background: rgb(232\, 237\, 245)\; padding: 5pt 8pt\; min-width: 5px\; -webkit-user-select: none\;" width="200"><p align="right" style="margin: 0in\; font-size: 11pt\; font-family: Arial\, sans-serif\; text-align: right\;"><strong fr-original-style="" style="font-weight: 700\;">$37.50</strong></p></td></tr><tr fr-original-style="" style="-webkit-user-select: none\;"><td fr-original-style="width: 318pt\; border-width: medium 1pt 1pt\; border-style: none solid solid\; border-color: currentcolor rgb(187\, 187\, 187) rgb(187\, 187\, 187)\; border-image: none\; background: white\; padding: 5pt 8pt\;" style="width: 318pt\; border-width: medium 1pt 1pt\; border-style: none solid solid\; border-color: currentcolor rgb(187\, 187\, 187) rgb(187\, 187\, 187)\; border-image: none\; background: white\; padding: 5pt 8pt\; min-width: 5px\; -webkit-user-select: none\;" width="424"><p style="margin: 0in\; font-size: 11pt\; font-family: Arial\, sans-serif\;">Corporate Level Parade Participant</p></td><td fr-original-style="width: 150pt\; border-width: medium 1pt 1pt medium\; border-style: none solid solid none\; border-color: currentcolor rgb(187\, 187\, 187) rgb(187\, 187\, 187) currentcolor\; background: white\; padding: 5pt 8pt\;" style="width: 150pt\; border-width: medium 1pt 1pt medium\; border-style: none solid solid none\; border-color: currentcolor rgb(187\, 187\, 187) rgb(187\, 187\, 187) currentcolor\; background: white\; padding: 5pt 8pt\; min-width: 5px\; -webkit-user-select: none\;" width="200"><p align="right" style="margin: 0in\; font-size: 11pt\; font-family: Arial\, sans-serif\; text-align: right\;"><strong fr-original-style="" style="font-weight: 700\;">$0.00</strong></p></td></tr><tr fr-original-style="" style="-webkit-user-select: none\;"><td fr-original-style="width: 318pt\; border-width: medium 1pt 1pt\; border-style: none solid solid\; border-color: currentcolor rgb(187\, 187\, 187) rgb(187\, 187\, 187)\; border-image: none\; background: rgb(232\, 245\, 236)\; padding: 5pt 8pt\;" style="width: 318pt\; border-width: medium 1pt 1pt\; border-style: none solid solid\; border-color: currentcolor rgb(187\, 187\, 187) rgb(187\, 187\, 187)\; border-image: none\; background: rgb(232\, 245\, 236)\; padding: 5pt 8pt\; min-width: 5px\; -webkit-user-select: none\;" width="424"><p style="margin: 0in\; font-size: 11pt\; font-family: Arial\, sans-serif\;">Investor Level Member</p></td><td fr-original-style="width: 150pt\; border-width: medium 1pt 1pt medium\; border-style: none solid solid none\; border-color: currentcolor rgb(187\, 187\, 187) rgb(187\, 187\, 187) currentcolor\; background: rgb(232\, 245\, 236)\; padding: 5pt 8pt\;" style="width: 150pt\; border-width: medium 1pt 1pt medium\; border-style: none solid solid none\; border-color: currentcolor rgb(187\, 187\, 187) rgb(187\, 187\, 187) currentcolor\; background: rgb(232\, 245\, 236)\; padding: 5pt 8pt\; min-width: 5px\; -webkit-user-select: none\;" width="200"><p align="right" style="margin: 0in\; font-size: 11pt\; font-family: Arial\, sans-serif\; text-align: right\;"><strong fr-original-style="" style="font-weight: 700\;">$0.00</strong></p></td></tr></tbody></table><p style="margin: 0in 0in 12pt\; font-size: 11pt\; font-family: Arial\, sans-serif\;"><br></p><hr fr-original-style="" style="clear: both\; -webkit-user-select: none\; break-after: page\;"><p style="font-family: Arial\;"><br></p><p style="font-family: Arial\;"><br></p><p style="font-family: Arial\;"><span style="font-size: 48px\; font-family: Verdana\, Geneva\, sans-serif\;">Questions: Julie@ivcba.org</span></p></body></html>
LOCATION:
UID:e.3015.1433411
SEQUENCE:3
DTSTAMP:20260421T185904Z
URL:https://inclinevillagecrystalbaycommunitybusinessassociationivcba.growthzoneapp.com/event-calendar/Details/local-heroes-parade-registration-2026-1696668?sourceTypeId=Hub
END:VEVENT
END:VCALENDAR
