BEGIN:VCALENDAR
VERSION:2.0
PRODID:-//ChamberMaster//Event Calendar 2.0//EN
METHOD:PUBLISH
X-PUBLISHED-TTL:P1H
REFRESH-INTERVAL:P1H
CALSCALE:GREGORIAN
BEGIN:VTIMEZONE
TZID:America/Los_Angeles
BEGIN:DAYLIGHT
RRULE:FREQ=YEARLY;BYMONTH=3;BYDAY=2SU
DTSTART:20070101T000000
TZOFFSETFROM:-0800
TZOFFSETTO:-0700
TZNAME:Pacific Daylight Time
END:DAYLIGHT
BEGIN:STANDARD
RRULE:FREQ=YEARLY;BYMONTH=11;BYDAY=1SU
DTSTART:20070101T000000
TZOFFSETFROM:-0700
TZOFFSETTO:-0800
TZNAME:Pacific Standard Time
END:STANDARD
END:VTIMEZONE
BEGIN:VEVENT
DTSTART;TZID=America/Los_Angeles:20260703T080000
DTEND;TZID=America/Los_Angeles:20260703T100000
X-MICROSOFT-CDO-ALLDAYEVENT:FALSE
SUMMARY:NLTFPD Pancake Breakfast
DESCRIPTION:Before the parade... fuel up at the annual pancake breakfast hosted by the North Lake Tahoe Fire Protection District!
X-ALT-DESC;FMTTYPE=text/html:Before the parade... fuel up at the annual pancake breakfast hosted by the North Lake Tahoe Fire Protection District!
LOCATION:Tanager Rd Incline Village NV 89451
UID:e.3015.1194458
SEQUENCE:3
DTSTAMP:20260421T185756Z
URL:https://inclinevillagecrystalbaycommunitybusinessassociationivcba.growthzoneapp.com/event-calendar/Details/nltfpd-pancake-breakfast-1393335?sourceTypeId=Hub
END:VEVENT
END:VCALENDAR
