BEGIN:VCALENDAR
VERSION:2.0
PRODID:-//ChamberMaster//Event Calendar 2.0//EN
METHOD:PUBLISH
X-PUBLISHED-TTL:P1H
REFRESH-INTERVAL:P1H
CALSCALE:GREGORIAN
BEGIN:VTIMEZONE
TZID:America/Los_Angeles
BEGIN:DAYLIGHT
RRULE:FREQ=YEARLY;BYMONTH=3;BYDAY=2SU
DTSTART:20070101T000000
TZOFFSETFROM:-0800
TZOFFSETTO:-0700
TZNAME:Pacific Daylight Time
END:DAYLIGHT
BEGIN:STANDARD
RRULE:FREQ=YEARLY;BYMONTH=11;BYDAY=1SU
DTSTART:20070101T000000
TZOFFSETFROM:-0700
TZOFFSETTO:-0800
TZNAME:Pacific Standard Time
END:STANDARD
END:VTIMEZONE
BEGIN:VEVENT
DTSTART;TZID=America/Los_Angeles:20260531T100000
DTEND;TZID=America/Los_Angeles:20260531T150000
X-MICROSOFT-CDO-ALLDAYEVENT:FALSE
SUMMARY:Nourish Tahoe
DESCRIPTION:Nourish Tahoe is a community celebration of local food\, wellness\, and connection. Hosted by Tahoe Food Hub and Mountain Lotus Yoga\, and made possible by the generous support of the Truckee Core Values Fund\, this family-friendly event brings together farmers\, makers\, and community members for a day dedicated to nourishing both body and mind.Join us Sunday\, May 31 from 10 a.m. to 3 p.m. at Mountain Lotus in Truckee for a vibrant afternoon featuring a pop-up farmers market\, local vendors offering wellness-centered products\, and a build-your-own bouquet bar where you can create a beautiful arrangement with locally grown flowers. Mountain Lotus will also be offering a free community yoga class\, inviting attendees to slow down\, move\, and connect in a welcoming shared practice.Families are welcome\, with activities for all ages\, and fresh farm-to-table food available for purchase from Mountain Lotus Caf  throughout the day.Come connect with local farmers and makers\, support small businesses\, and celebrate the incredible food and wellness community that makes Tahoe such a special place.
X-ALT-DESC;FMTTYPE=text/html:<!DOCTYPE html><html><head><title></title></head><body aria-disabled="false"><p dir="ltr" style="line-height:1.38\;background-color:#ffffff\;margin-top:12pt\;margin-bottom:0pt\;padding:0pt 0pt 12pt 0pt\;"><span style="font-size:11pt\;font-family:Arial\,sans-serif\;color:#000000\;background-color:transparent\;font-weight:700\;font-style:normal\;font-variant:normal\;text-decoration:none\;vertical-align:baseline\;white-space:pre\;white-space:pre-wrap\;">Nourish Tahoe</span><span style="font-size:11pt\;font-family:Arial\,sans-serif\;color:#000000\;background-color:transparent\;font-weight:400\;font-style:normal\;font-variant:normal\;text-decoration:none\;vertical-align:baseline\;white-space:pre\;white-space:pre-wrap\;">&nbsp\;is a community celebration of local food\, wellness\, and connection. Hosted by Tahoe Food Hub and Mountain Lotus Yoga\, and made possible by the generous support of the Truckee Core Values Fund\, this family-friendly event brings together farmers\, makers\, and community members for a day dedicated to nourishing both body and mind.</span></p><p dir="ltr" style="line-height:1.38\;background-color:#ffffff\;margin-top:0pt\;margin-bottom:0pt\;padding:0pt 0pt 12pt 0pt\;"><span style="font-size:11pt\;font-family:Arial\,sans-serif\;color:#000000\;background-color:transparent\;font-weight:400\;font-style:normal\;font-variant:normal\;text-decoration:none\;vertical-align:baseline\;white-space:pre\;white-space:pre-wrap\;">Join us&nbsp\;</span><span style="font-size:11pt\;font-family:Arial\,sans-serif\;color:#000000\;background-color:transparent\;font-weight:700\;font-style:normal\;font-variant:normal\;text-decoration:none\;vertical-align:baseline\;white-space:pre\;white-space:pre-wrap\;">Sunday\, May 31 from 10 a.m. to 3 p.m. at Mountain Lotus in Truckee</span><span style="font-size:11pt\;font-family:Arial\,sans-serif\;color:#000000\;background-color:transparent\;font-weight:400\;font-style:normal\;font-variant:normal\;text-decoration:none\;vertical-align:baseline\;white-space:pre\;white-space:pre-wrap\;">&nbsp\;for a vibrant afternoon featuring a&nbsp\;</span><span style="font-size:11pt\;font-family:Arial\,sans-serif\;color:#000000\;background-color:transparent\;font-weight:700\;font-style:normal\;font-variant:normal\;text-decoration:none\;vertical-align:baseline\;white-space:pre\;white-space:pre-wrap\;">pop-up farmers market</span><span style="font-size:11pt\;font-family:Arial\,sans-serif\;color:#000000\;background-color:transparent\;font-weight:400\;font-style:normal\;font-variant:normal\;text-decoration:none\;vertical-align:baseline\;white-space:pre\;white-space:pre-wrap\;">\,&nbsp\;</span><span style="font-size:11pt\;font-family:Arial\,sans-serif\;color:#000000\;background-color:transparent\;font-weight:700\;font-style:normal\;font-variant:normal\;text-decoration:none\;vertical-align:baseline\;white-space:pre\;white-space:pre-wrap\;">local vendors offering wellness-centered products</span><span style="font-size:11pt\;font-family:Arial\,sans-serif\;color:#000000\;background-color:transparent\;font-weight:400\;font-style:normal\;font-variant:normal\;text-decoration:none\;vertical-align:baseline\;white-space:pre\;white-space:pre-wrap\;">\, and a&nbsp\;</span><span style="font-size:11pt\;font-family:Arial\,sans-serif\;color:#000000\;background-color:transparent\;font-weight:700\;font-style:normal\;font-variant:normal\;text-decoration:none\;vertical-align:baseline\;white-space:pre\;white-space:pre-wrap\;">build-your-own bouquet bar</span><span style="font-size:11pt\;font-family:Arial\,sans-serif\;color:#000000\;background-color:transparent\;font-weight:400\;font-style:normal\;font-variant:normal\;text-decoration:none\;vertical-align:baseline\;white-space:pre\;white-space:pre-wrap\;">&nbsp\;where you can create a beautiful arrangement with locally grown flowers.&nbsp\;</span><span style="font-size:11pt\;font-family:Arial\,sans-serif\;color:#000000\;background-color:transparent\;font-weight:700\;font-style:normal\;font-variant:normal\;text-decoration:none\;vertical-align:baseline\;white-space:pre\;white-space:pre-wrap\;">Mountain Lotus will also be offering a free community yoga class</span><span style="font-size:11pt\;font-family:Arial\,sans-serif\;color:#000000\;background-color:transparent\;font-weight:400\;font-style:normal\;font-variant:normal\;text-decoration:none\;vertical-align:baseline\;white-space:pre\;white-space:pre-wrap\;">\, inviting attendees to slow down\, move\, and connect in a welcoming shared practice.</span></p><p dir="ltr" style="line-height:1.38\;background-color:#ffffff\;margin-top:0pt\;margin-bottom:0pt\;padding:0pt 0pt 12pt 0pt\;"><span style="font-size:11pt\;font-family:Arial\,sans-serif\;color:#000000\;background-color:transparent\;font-weight:400\;font-style:normal\;font-variant:normal\;text-decoration:none\;vertical-align:baseline\;white-space:pre\;white-space:pre-wrap\;">Families are welcome\, with activities for all ages\, and&nbsp\;</span><span style="font-size:11pt\;font-family:Arial\,sans-serif\;color:#000000\;background-color:transparent\;font-weight:700\;font-style:normal\;font-variant:normal\;text-decoration:none\;vertical-align:baseline\;white-space:pre\;white-space:pre-wrap\;">fresh farm-to-table food available for purchase from Mountain Lotus Caf&eacute\;</span><span style="font-size:11pt\;font-family:Arial\,sans-serif\;color:#000000\;background-color:transparent\;font-weight:400\;font-style:normal\;font-variant:normal\;text-decoration:none\;vertical-align:baseline\;white-space:pre\;white-space:pre-wrap\;">&nbsp\;throughout the day.</span></p><p dir="ltr" style="line-height:1.38\;background-color:#ffffff\;margin-top:0pt\;margin-bottom:12pt\;"><span style="font-size:11pt\;font-family:Arial\,sans-serif\;color:#000000\;background-color:transparent\;font-weight:400\;font-style:normal\;font-variant:normal\;text-decoration:none\;vertical-align:baseline\;white-space:pre\;white-space:pre-wrap\;">Come connect with local farmers and makers\, support small businesses\, and celebrate the incredible food and wellness community that makes Tahoe such a special place.</span></p></body></html>
LOCATION:
UID:e.3015.1418998
SEQUENCE:3
DTSTAMP:20260421T185859Z
URL:https://inclinevillagecrystalbaycommunitybusinessassociationivcba.growthzoneapp.com/event-calendar/Details/nourish-tahoe-1677175?sourceTypeId=Hub
END:VEVENT
END:VCALENDAR
