BEGIN:VCALENDAR
VERSION:2.0
PRODID:-//ChamberMaster//Event Calendar 2.0//EN
METHOD:PUBLISH
X-PUBLISHED-TTL:P1H
REFRESH-INTERVAL:P1H
CALSCALE:GREGORIAN
BEGIN:VTIMEZONE
TZID:America/Los_Angeles
BEGIN:DAYLIGHT
RRULE:FREQ=YEARLY;BYMONTH=3;BYDAY=2SU
DTSTART:20070101T000000
TZOFFSETFROM:-0800
TZOFFSETTO:-0700
TZNAME:Pacific Daylight Time
END:DAYLIGHT
BEGIN:STANDARD
RRULE:FREQ=YEARLY;BYMONTH=11;BYDAY=1SU
DTSTART:20070101T000000
TZOFFSETFROM:-0700
TZOFFSETTO:-0800
TZNAME:Pacific Standard Time
END:STANDARD
END:VTIMEZONE
BEGIN:VEVENT
DTSTART;TZID=America/Los_Angeles:20260429T090000
DTEND;TZID=America/Los_Angeles:20260429T100000
X-MICROSOFT-CDO-ALLDAYEVENT:FALSE
SUMMARY:Parenting Tech-Savvy Kids: Promoting Positive Use While Preventing Abuse with Dr. Sameer Hinduja
DESCRIPTION:Presented by The Doyle Family Speaker Series at Lake Tahoe School - Join us for a free presentation with Sameer Hinduja\, Ph.D. where you will learn to understand the latest online environments and the scope of modern risks like cyberbullying\; Master rule-setting\, monitoring\, and communication for your children\; and outsmart the algorithm! Click here to register.
X-ALT-DESC;FMTTYPE=text/html:<!DOCTYPE html><html><head><title></title></head><body aria-disabled="false"><p>Presented by The Doyle Family Speaker Series at Lake Tahoe School - Join us for a free presentation with Sameer Hinduja\, Ph.D. where you will learn to understand the latest online environments and the scope of modern risks like cyberbullying\; Master rule-setting\, monitoring\, and communication for your children\; and outsmart the algorithm! <a fr-original-style="" href="https://www.laketahoeschool.org/ninja-forms/57niju" rel="noopener noreferrer" style="user-select: auto\;" target="_blank">Click here to register.</a></p></body></html>
LOCATION:995 Tahoe Blvd. Incline Village NV 89451
UID:e.3015.1419520
SEQUENCE:3
DTSTAMP:20260421T185907Z
URL:https://inclinevillagecrystalbaycommunitybusinessassociationivcba.growthzoneapp.com/event-calendar/Details/parenting-tech-savvy-kids-promoting-positive-use-while-preventing-abuse-with-dr-sameer-hinduja-1677894?sourceTypeId=Hub
END:VEVENT
END:VCALENDAR
