BEGIN:VCALENDAR
VERSION:2.0
PRODID:-//ChamberMaster//Event Calendar 2.0//EN
METHOD:PUBLISH
X-PUBLISHED-TTL:P1H
REFRESH-INTERVAL:P1H
CALSCALE:GREGORIAN
BEGIN:VTIMEZONE
TZID:America/Los_Angeles
BEGIN:DAYLIGHT
RRULE:FREQ=YEARLY;BYMONTH=3;BYDAY=2SU
DTSTART:20070101T000000
TZOFFSETFROM:-0800
TZOFFSETTO:-0700
TZNAME:Pacific Daylight Time
END:DAYLIGHT
BEGIN:STANDARD
RRULE:FREQ=YEARLY;BYMONTH=11;BYDAY=1SU
DTSTART:20070101T000000
TZOFFSETFROM:-0700
TZOFFSETTO:-0800
TZNAME:Pacific Standard Time
END:STANDARD
END:VTIMEZONE
BEGIN:VEVENT
DTSTART;TZID=America/Los_Angeles:20260524T120000
DTEND;TZID=America/Los_Angeles:20260524T160000
X-MICROSOFT-CDO-ALLDAYEVENT:FALSE
SUMMARY:Pray For Sun Party (Free Community Event)
DESCRIPTION:We're calling in blue skies and good vibes this Memorial Day Weekend with a sun dance led by DJ Hardy\, special bites made just for us by Crosby's\, and a popup from artist Beck Baumann. Beck creates joyful\, whimsical mixed-media artworks built from handcrafted sequins\, recycled materials\, and playful bursts of color that feel like nostalgia turned shiny and new.Come move\, mingle\, shop her sparkling pieces\, and manifest warmer days with us.
X-ALT-DESC;FMTTYPE=text/html:<!DOCTYPE html><html><head><title></title></head><body aria-disabled="false"><p><meta charset="utf-8"></p><p style="box-sizing: border-box\; overflow-anchor: none\; border: initial\; box-shadow: initial\; margin: 0px 0px 27.36px\; padding: 0px\; color: rgb(0\, 77\, 133)\; font-size: 15.2px\; line-height: 1.6\; font-family: Assistant\, sans-serif\; font-style: normal\; font-variant-ligatures: normal\; font-variant-caps: normal\; font-weight: 400\; letter-spacing: normal\; orphans: 2\; text-align: left\; text-indent: 0px\; text-transform: none\; widows: 2\; word-spacing: 0px\; -webkit-text-stroke-width: 0px\; white-space: normal\; background-color: rgb(255\, 255\, 255)\; text-decoration-thickness: initial\; text-decoration-style: initial\; text-decoration-color: initial\;">We&rsquo\;re calling in blue skies and good vibes this Memorial Day Weekend with a sun dance led by DJ Hardy\, special bites made just for us by Crosby&rsquo\;s\, and a popup from artist Beck Baumann. Beck creates joyful\, whimsical mixed-media artworks built from handcrafted sequins\, recycled materials\, and playful bursts of color that feel like nostalgia turned shiny and new.</p><p style="box-sizing: border-box\; overflow-anchor: none\; border: initial\; box-shadow: initial\; margin: 12.16px 0px 27.36px\; padding: 0px\; color: rgb(0\, 77\, 133)\; font-size: 15.2px\; line-height: 1.6\; font-family: Assistant\, sans-serif\; font-style: normal\; font-variant-ligatures: normal\; font-variant-caps: normal\; font-weight: 400\; letter-spacing: normal\; orphans: 2\; text-align: left\; text-indent: 0px\; text-transform: none\; widows: 2\; word-spacing: 0px\; -webkit-text-stroke-width: 0px\; white-space: normal\; background-color: rgb(255\, 255\, 255)\; text-decoration-thickness: initial\; text-decoration-style: initial\; text-decoration-color: initial\;">Come move\, mingle\, shop her sparkling pieces\, and manifest warmer days with us.</p></body></html>
LOCATION:
UID:e.3015.1413415
SEQUENCE:3
DTSTAMP:20260421T185924Z
URL:https://inclinevillagecrystalbaycommunitybusinessassociationivcba.growthzoneapp.com/event-calendar/Details/pray-for-sun-party-free-community-event-1670304?sourceTypeId=Hub
END:VEVENT
END:VCALENDAR
