BEGIN:VCALENDAR
VERSION:2.0
PRODID:-//ChamberMaster//Event Calendar 2.0//EN
METHOD:PUBLISH
X-PUBLISHED-TTL:P1H
REFRESH-INTERVAL:P1H
CALSCALE:GREGORIAN
BEGIN:VTIMEZONE
TZID:America/Los_Angeles
BEGIN:DAYLIGHT
RRULE:FREQ=YEARLY;BYMONTH=3;BYDAY=2SU
DTSTART:20070101T000000
TZOFFSETFROM:-0800
TZOFFSETTO:-0700
TZNAME:Pacific Daylight Time
END:DAYLIGHT
BEGIN:STANDARD
RRULE:FREQ=YEARLY;BYMONTH=11;BYDAY=1SU
DTSTART:20070101T000000
TZOFFSETFROM:-0700
TZOFFSETTO:-0800
TZNAME:Pacific Standard Time
END:STANDARD
END:VTIMEZONE
BEGIN:VEVENT
DTSTART;TZID=America/Los_Angeles:20260514T170000
DTEND;TZID=America/Los_Angeles:20260514T190000
X-MICROSOFT-CDO-ALLDAYEVENT:FALSE
SUMMARY:Stitched at Elevation: Custom Denim Embroidery - Mickeygirl Design
DESCRIPTION:Join Bonnie of MickeyGirl for a playful\, hands-on embroidery workshop where you'll customize your favorite denim piece with beautiful\, naturally dyed thread.Bring your own denim and Bonnie will help you transform it into something completely personal. Think: jeans\, shorts\, jackets\, vests  or that random denim item living in the back of your closet (we see you\, denim bucket hat).Using organic GOTS cotton thread that is naturally dyed\, you'll learn approachable embroidery techniques in a relaxed\, creative setting. You are welcome to draw and bring your own design\, or share what you're envisioning in the text box below at signup and Bonnie will create a custom pattern for you ahead of the workshop.The workshop space is yours for two hours\, with plenty of flexibility to work at your own pace. This is a laid-back evening rooted in self-expression and good Tahoe company.
X-ALT-DESC;FMTTYPE=text/html:<!DOCTYPE html><html><head><title></title></head><body aria-disabled="false"><p><meta charset="utf-8"></p><p style="box-sizing: border-box\; overflow-anchor: none\; border: initial\; box-shadow: initial\; margin: 0px 0px 27.36px\; padding: 0px\; color: rgb(0\, 77\, 133)\; font-size: 15.2px\; line-height: 1.6\; font-family: Assistant\, sans-serif\; font-style: normal\; font-variant-ligatures: normal\; font-variant-caps: normal\; font-weight: 400\; letter-spacing: normal\; orphans: 2\; text-align: left\; text-indent: 0px\; text-transform: none\; widows: 2\; word-spacing: 0px\; -webkit-text-stroke-width: 0px\; white-space: normal\; background-color: rgb(255\, 255\, 255)\; text-decoration-thickness: initial\; text-decoration-style: initial\; text-decoration-color: initial\;">Join Bonnie of MickeyGirl for a playful\, hands-on embroidery workshop where you&rsquo\;ll customize your favorite denim piece with beautiful\, naturally dyed thread.</p><p style="box-sizing: border-box\; overflow-anchor: none\; border: initial\; box-shadow: initial\; margin: 12.16px 0px 27.36px\; padding: 0px\; color: rgb(0\, 77\, 133)\; font-size: 15.2px\; line-height: 1.6\; font-family: Assistant\, sans-serif\; font-style: normal\; font-variant-ligatures: normal\; font-variant-caps: normal\; font-weight: 400\; letter-spacing: normal\; orphans: 2\; text-align: left\; text-indent: 0px\; text-transform: none\; widows: 2\; word-spacing: 0px\; -webkit-text-stroke-width: 0px\; white-space: normal\; background-color: rgb(255\, 255\, 255)\; text-decoration-thickness: initial\; text-decoration-style: initial\; text-decoration-color: initial\;">Bring your own denim and Bonnie will help you transform it into something completely personal. Think: jeans\, shorts\, jackets\, vests&hellip\; or that random denim item living in the back of your closet (we see you\, denim bucket hat).</p><p style="box-sizing: border-box\; overflow-anchor: none\; border: initial\; box-shadow: initial\; margin: 12.16px 0px 27.36px\; padding: 0px\; color: rgb(0\, 77\, 133)\; font-size: 15.2px\; line-height: 1.6\; font-family: Assistant\, sans-serif\; font-style: normal\; font-variant-ligatures: normal\; font-variant-caps: normal\; font-weight: 400\; letter-spacing: normal\; orphans: 2\; text-align: left\; text-indent: 0px\; text-transform: none\; widows: 2\; word-spacing: 0px\; -webkit-text-stroke-width: 0px\; white-space: normal\; background-color: rgb(255\, 255\, 255)\; text-decoration-thickness: initial\; text-decoration-style: initial\; text-decoration-color: initial\;">Using organic GOTS cotton thread that is naturally dyed\, you&rsquo\;ll learn approachable embroidery techniques in a relaxed\, creative setting. You are welcome to draw and bring your own design\, or share what you&rsquo\;re envisioning in the text box below at signup and Bonnie will create a custom pattern for you ahead of the workshop.</p><p style="box-sizing: border-box\; overflow-anchor: none\; border: initial\; box-shadow: initial\; margin: 12.16px 0px 27.36px\; padding: 0px\; color: rgb(0\, 77\, 133)\; font-size: 15.2px\; line-height: 1.6\; font-family: Assistant\, sans-serif\; font-style: normal\; font-variant-ligatures: normal\; font-variant-caps: normal\; font-weight: 400\; letter-spacing: normal\; orphans: 2\; text-align: left\; text-indent: 0px\; text-transform: none\; widows: 2\; word-spacing: 0px\; -webkit-text-stroke-width: 0px\; white-space: normal\; background-color: rgb(255\, 255\, 255)\; text-decoration-thickness: initial\; text-decoration-style: initial\; text-decoration-color: initial\;">The workshop space is yours for two hours\, with plenty of flexibility to work at your own pace. This is a laid-back evening rooted in self-expression and good Tahoe company.</p></body></html>
LOCATION:
UID:e.3015.1413411
SEQUENCE:3
DTSTAMP:20260421T185923Z
URL:https://inclinevillagecrystalbaycommunitybusinessassociationivcba.growthzoneapp.com/event-calendar/Details/stitched-at-elevation-custom-denim-embroidery-mickeygirl-design-1670300?sourceTypeId=Hub
END:VEVENT
END:VCALENDAR
