BEGIN:VCALENDAR
VERSION:2.0
PRODID:-//ChamberMaster//Event Calendar 2.0//EN
METHOD:PUBLISH
X-PUBLISHED-TTL:P1H
REFRESH-INTERVAL:P1H
CALSCALE:GREGORIAN
BEGIN:VTIMEZONE
TZID:America/Los_Angeles
BEGIN:DAYLIGHT
RRULE:FREQ=YEARLY;BYMONTH=3;BYDAY=2SU
DTSTART:20070101T000000
TZOFFSETFROM:-0800
TZOFFSETTO:-0700
TZNAME:Pacific Daylight Time
END:DAYLIGHT
BEGIN:STANDARD
RRULE:FREQ=YEARLY;BYMONTH=11;BYDAY=1SU
DTSTART:20070101T000000
TZOFFSETFROM:-0700
TZOFFSETTO:-0800
TZNAME:Pacific Standard Time
END:STANDARD
END:VTIMEZONE
BEGIN:VEVENT
DTSTART;TZID=America/Los_Angeles:20260402T200000
DTEND;TZID=America/Los_Angeles:20260402T200000
X-MICROSOFT-CDO-ALLDAYEVENT:FALSE
SUMMARY:The Alchemy Space - Connecting to Our Sensory Nature
DESCRIPTION:The most valuable currency of the future is the ability to trust yourself—your body\, your senses\, your inner knowing. This workshop is an invitation to return to that wisdom.\nThrough gentle movement\, sensory awareness\, and playful exploration\, we’ll reconnect with what is already alive within you. Rather than overriding or analyzing\, we soften into the body and allow intuition to emerge through direct\, lived experience.\nThis is a remembering of the pleasure of being human. A softening into the animal body. A release of old\, limiting narratives through direct\, lived experience. From this place of embodied wholeness\, trust in your intuitive capacity can naturally unfold.\nIf you’re longing to feel more alive\, more connected\, and ready to awaken your intuitive intelligence\, this workshop is for you.
X-ALT-DESC;FMTTYPE=text/html:The most valuable currency of the future is the ability to trust yourself—your body\, your senses\, your inner knowing. This workshop is an invitation to return to that wisdom.\nThrough gentle movement\, sensory awareness\, and playful exploration\, we’ll reconnect with what is already alive within you. Rather than overriding or analyzing\, we soften into the body and allow intuition to emerge through direct\, lived experience.\nThis is a remembering of the pleasure of being human. A softening into the animal body. A release of old\, limiting narratives through direct\, lived experience. From this place of embodied wholeness\, trust in your intuitive capacity can naturally unfold.\nIf you’re longing to feel more alive\, more connected\, and ready to awaken your intuitive intelligence\, this workshop is for you.
LOCATION:10075 West River St. Suite A Truckee CA 96161
UID:e.3015.1427292
SEQUENCE:3
DTSTAMP:20260421T190018Z
URL:https://inclinevillagecrystalbaycommunitybusinessassociationivcba.growthzoneapp.com/event-calendar/Details/the-alchemy-space-connecting-to-our-sensory-nature-1688020?sourceTypeId=Hub
END:VEVENT
END:VCALENDAR
