BEGIN:VCALENDAR
VERSION:2.0
PRODID:-//ChamberMaster//Event Calendar 2.0//EN
METHOD:PUBLISH
X-PUBLISHED-TTL:P1H
REFRESH-INTERVAL:P1H
CALSCALE:GREGORIAN
BEGIN:VTIMEZONE
TZID:America/Los_Angeles
BEGIN:DAYLIGHT
RRULE:FREQ=YEARLY;BYMONTH=3;BYDAY=2SU
DTSTART:20070101T000000
TZOFFSETFROM:-0800
TZOFFSETTO:-0700
TZNAME:Pacific Daylight Time
END:DAYLIGHT
BEGIN:STANDARD
RRULE:FREQ=YEARLY;BYMONTH=11;BYDAY=1SU
DTSTART:20070101T000000
TZOFFSETFROM:-0700
TZOFFSETTO:-0800
TZNAME:Pacific Standard Time
END:STANDARD
END:VTIMEZONE
BEGIN:VEVENT
DTSTART;TZID=America/Los_Angeles:20260401T160000
DTEND;TZID=America/Los_Angeles:20260401T180000
X-MICROSOFT-CDO-ALLDAYEVENT:FALSE
SUMMARY:True North & Tahoe Forest Health System Community Meetups
DESCRIPTION:Connect with us - Tahoe Forest Health System will host meet-ups at local restaurants and coffee shops. Community members are invited to stop by\, enjoy complimentary refreshments\, and share their thoughts in-person or via the True North survey.https://www.tfhd.com/true-north/
X-ALT-DESC;FMTTYPE=text/html:<!DOCTYPE html><html><head><title></title></head><body aria-disabled="false" spellcheck="false"><p>Connect with us - Tahoe Forest Health System will host meet-ups at local restaurants and coffee shops. Community members are invited to stop by\, enjoy complimentary refreshments\, and share their thoughts in-person or via the True North survey.</p><p><a fr-original-style="" href="https://www.tfhd.com/true-north/" style="user-select: auto\;">https://www.tfhd.com/true-north/</a></p></body></html>
LOCATION:931 Tahoe Blvd Incline Village NV 89451
UID:e.3015.1422970
SEQUENCE:3
DTSTAMP:20260421T190014Z
URL:https://inclinevillagecrystalbaycommunitybusinessassociationivcba.growthzoneapp.com/event-calendar/Details/true-north-tahoe-forest-health-system-community-meetups-1682511?sourceTypeId=Hub
END:VEVENT
END:VCALENDAR
