BEGIN:VCALENDAR
VERSION:2.0
PRODID:-//ChamberMaster//Event Calendar 2.0//EN
METHOD:PUBLISH
X-PUBLISHED-TTL:P1H
REFRESH-INTERVAL:P1H
CALSCALE:GREGORIAN
BEGIN:VTIMEZONE
TZID:America/Los_Angeles
BEGIN:DAYLIGHT
RRULE:FREQ=YEARLY;BYMONTH=3;BYDAY=2SU
DTSTART:20070101T000000
TZOFFSETFROM:-0800
TZOFFSETTO:-0700
TZNAME:Pacific Daylight Time
END:DAYLIGHT
BEGIN:STANDARD
RRULE:FREQ=YEARLY;BYMONTH=11;BYDAY=1SU
DTSTART:20070101T000000
TZOFFSETFROM:-0700
TZOFFSETTO:-0800
TZNAME:Pacific Standard Time
END:STANDARD
END:VTIMEZONE
BEGIN:VEVENT
DTSTART;TZID=America/Los_Angeles:20260407T160000
DTEND;TZID=America/Los_Angeles:20260407T190000
X-MICROSOFT-CDO-ALLDAYEVENT:FALSE
SUMMARY:UNR at Lake Tahoe Strategic Plan Meeting
DESCRIPTION:The University of Nevada\, Reno at Lake Tahoe in the first phase of developing a strategic plan and the voices of this community are essential to this process.Tuesday\, April 7th\, 4 pm to 7 pm at the Prim Library building At the intersection of a world-class natural environment and a leading public research university\, the University of Nevada\, Reno at Lake Tahoe has a distinctive opportunity to serve this region and we want to make sure that opportunity is shaped by the people who know it best.We want to hear about the challenges and opportunities you see in the Lake Tahoe region\, how the University of Nevada\, Reno at Lake Tahoe can better partner with local organizations\, and what you'd most like to see from the University's presence in the community. If you are unable to attend the session\, we'd love to hear from you through our strategic planning survey\, available at www.unr.edu/lake-tahoe/strategic-planning.
X-ALT-DESC;FMTTYPE=text/html:<!DOCTYPE html><html><head><title></title></head><body aria-disabled="false" spellcheck="false"><p>The University of Nevada\, Reno at Lake Tahoe in the first phase of developing a strategic plan and the voices of this community are essential to this process.</p><p><meta charset="UTF-8"></p><div style="font-style: normal\; font-variant-caps: normal\; font-weight: 400\; letter-spacing: normal\; orphans: auto\; text-indent: 0px\; text-transform: none\; white-space: normal\; widows: auto\; word-spacing: 0px\; -webkit-text-stroke-width: 0px\; text-decoration: none\; text-align: left\; line-height: 1.2\; margin: 0px 0px 1.2em\; font-family: Aptos\, Aptos_EmbeddedFont\, Aptos_MSFontService\, Calibri\, Helvetica\, sans-serif\; font-size: 12pt\; color: rgb(0\, 0\, 0)\;"><em>Tuesday\, April 7th\, 4 pm to 7 pm at the Prim Library building&nbsp\;</em></div><div style="font-style: normal\; font-variant-caps: normal\; font-weight: 400\; letter-spacing: normal\; orphans: auto\; text-indent: 0px\; text-transform: none\; white-space: normal\; widows: auto\; word-spacing: 0px\; -webkit-text-stroke-width: 0px\; text-decoration: none\; text-align: left\; line-height: 1.2\; margin: 0px 0px 1.2em\; font-family: Aptos\, Aptos_EmbeddedFont\, Aptos_MSFontService\, Calibri\, Helvetica\, sans-serif\; font-size: 12pt\; color: rgb(0\, 0\, 0)\;"><em>At the intersection of a world-class natural environment and a leading public research university\, the University of Nevada\, Reno at Lake Tahoe has a distinctive opportunity to serve this region and we want to make sure that opportunity is shaped by the people who know it best.</em></div><div style="font-style: normal\; font-variant-caps: normal\; font-weight: 400\; letter-spacing: normal\; orphans: auto\; text-indent: 0px\; text-transform: none\; white-space: normal\; widows: auto\; word-spacing: 0px\; -webkit-text-stroke-width: 0px\; text-decoration: none\; text-align: left\; line-height: 1.2\; margin: 1.2em 0px\; font-family: Aptos\, Aptos_EmbeddedFont\, Aptos_MSFontService\, Calibri\, Helvetica\, sans-serif\; font-size: 12pt\; color: rgb(0\, 0\, 0)\;"><em>We want to hear about the challenges and opportunities you see in the Lake Tahoe region\, how the University of Nevada\, Reno at Lake Tahoe can better partner with local organizations\, and what you&#39\;d most like to see from the University&#39\;s presence in the community.&nbsp\;</em></div><div style="caret-color: rgb(0\, 0\, 0)\; color: rgb(0\, 0\, 0)\; font-style: normal\; font-variant-caps: normal\; font-weight: 400\; letter-spacing: normal\; orphans: auto\; text-indent: 0px\; text-transform: none\; white-space: normal\; widows: auto\; word-spacing: 0px\; -webkit-text-stroke-width: 0px\; text-decoration: none\; text-align: left\; line-height: 1.2\; margin: 1.2em 0px\; font-family: Aptos\, Aptos_EmbeddedFont\, Aptos_MSFontService\, Calibri\, Helvetica\, sans-serif\; font-size: 12pt\;"><span style="color: rgb(0\, 0\, 0)\;"><em>If you are unable to attend the session\, we&#39\;d love to hear from you through our&nbsp\;</em></span><a fr-original-style="" href="https://unr.az1.qualtrics.com/jfe/form/SV_dcoB00kavsF1keq" rel="noopener noreferrer" style="user-select: auto\;" target="_blank"><span style="color: rgb(4\, 30\, 66)\;"><em><u>strategic planning survey\,</u></em></span><span style="color: rgb(0\, 0\, 0)\;"><em>&nbsp\;</em></span></a><span style="color: rgb(0\, 0\, 0)\;"><em>available at <a fr-original-style="" href="http://www.unr.edu/lake-tahoe/strategic-planning" style="user-select: auto\; color: inherit\;" title="www.unr.edu/lake-tahoe/strategic-planning">www.unr.edu/lake-tahoe/strategic-planning</a>.</em></span></div></body></html>
LOCATION:999 Tahoe Boulevard Incline Village NV
UID:e.3015.1423797
SEQUENCE:3
DTSTAMP:20260421T190041Z
URL:https://inclinevillagecrystalbaycommunitybusinessassociationivcba.growthzoneapp.com/event-calendar/Details/unr-at-lake-tahoe-strategic-plan-meeting-1683466?sourceTypeId=Hub
END:VEVENT
END:VCALENDAR
